BEGIN:VCALENDAR
VERSION:2.0
PRODID:LFV Website-Kit
METHOD:PUBLISH
BEGIN:VEVENT
UID:lfv-e007b8a2-15f6-4be2-9d35-e71b2abdbd99
LOCATION:
SUMMARY:Wissenstest der Jugendfeuerwehr
DESCRIPTION:Termin Link: http://www.ffw-burgbernheim.de/termine/wissenstest-der-jugendfeuerwehr/
URL:http://www.ffw-burgbernheim.de/termine/wissenstest-der-jugendfeuerwehr/
CLASS:PRIVATE
DTSTART;TZID=Europe/Berlin:20260919T090000
DTEND;TZID=Europe/Berlin:20260919T100000
DTSTAMP:20260421T143025Z
END:VEVENT
END:VCALENDAR