BEGIN:VCALENDAR
VERSION:2.0
PRODID:LFV Website-Kit
METHOD:PUBLISH
BEGIN:VEVENT
UID:lfv-4f10df7e-b223-4c39-83f3-67867945a799
LOCATION:
SUMMARY:Weihnachtsfeier
DESCRIPTION:Termin Link: http://www.ffw-burgbernheim.de/termine/weihnachtsfeier/
URL:http://www.ffw-burgbernheim.de/termine/weihnachtsfeier/
CLASS:PRIVATE
DTSTART;TZID=Europe/Berlin:20261205T190000
DTEND;TZID=Europe/Berlin:20261205T200000
DTSTAMP:20260423T150619Z
END:VEVENT
END:VCALENDAR