BEGIN:VCALENDAR
VERSION:2.0
PRODID:LFV Website-Kit
METHOD:PUBLISH
BEGIN:VEVENT
UID:lfv-b47f9502-87a7-40e2-a6ba-5bc3b17a9ad9
LOCATION:
SUMMARY:Volkstrauertag
DESCRIPTION:Termin Link: http://www.ffw-burgbernheim.de/termine/volkstrauertag/
URL:http://www.ffw-burgbernheim.de/termine/volkstrauertag/
CLASS:PRIVATE
DTSTART;TZID=Europe/Berlin:20261115T100000
DTEND;TZID=Europe/Berlin:20261115T110000
DTSTAMP:20260423T013036Z
END:VEVENT
END:VCALENDAR