BEGIN:VCALENDAR
VERSION:2.0
PRODID:LFV Website-Kit
METHOD:PUBLISH
BEGIN:VEVENT
UID:lfv-2c2ae306-517b-4a89-ab5a-561616408fee
LOCATION:
SUMMARY:Übung
DESCRIPTION:Termin Link: http://www.ffw-burgbernheim.de/termine/ubung_12/
URL:http://www.ffw-burgbernheim.de/termine/ubung_12/
CLASS:PRIVATE
DTSTART;TZID=Europe/Berlin:20261209T193000
DTEND;TZID=Europe/Berlin:20261209T203000
DTSTAMP:20260423T175943Z
END:VEVENT
END:VCALENDAR