BEGIN:VCALENDAR
VERSION:2.0
PRODID:LFV Website-Kit
METHOD:PUBLISH
BEGIN:VEVENT
UID:lfv-e74b2bad-ede1-4a93-8551-571017c75762
LOCATION:
SUMMARY:Übung
DESCRIPTION:Termin Link: http://www.ffw-burgbernheim.de/termine/ubung_11/
URL:http://www.ffw-burgbernheim.de/termine/ubung_11/
CLASS:PRIVATE
DTSTART;TZID=Europe/Berlin:20261111T193000
DTEND;TZID=Europe/Berlin:20261111T203000
DTSTAMP:20260422T234922Z
END:VEVENT
END:VCALENDAR