BEGIN:VCALENDAR
VERSION:2.0
PRODID:LFV Website-Kit
METHOD:PUBLISH
BEGIN:VEVENT
UID:lfv-4d4957b5-cb68-4faf-9691-d6b503a2d6e4
LOCATION:
SUMMARY:Übung
DESCRIPTION:Termin Link: http://www.ffw-burgbernheim.de/termine/ubung_07/
URL:http://www.ffw-burgbernheim.de/termine/ubung_07/
CLASS:PRIVATE
DTSTART;TZID=Europe/Berlin:20260708T193000
DTEND;TZID=Europe/Berlin:20260708T203000
DTSTAMP:20260419T174020Z
END:VEVENT
END:VCALENDAR