BEGIN:VCALENDAR
VERSION:2.0
PRODID:LFV Website-Kit
METHOD:PUBLISH
BEGIN:VEVENT
UID:lfv-e9144179-1fa3-4cd5-8906-1bdb3e777eb8
LOCATION:
SUMMARY:Übung
DESCRIPTION:Termin Link: http://www.ffw-burgbernheim.de/termine/ubung-8/
URL:http://www.ffw-burgbernheim.de/termine/ubung-8/
CLASS:PRIVATE
DTSTART;TZID=Europe/Berlin:20260812T193000
DTEND;TZID=Europe/Berlin:20260812T203000
DTSTAMP:20260420T181319Z
END:VEVENT
END:VCALENDAR