BEGIN:VCALENDAR
VERSION:2.0
PRODID:LFV Website-Kit
METHOD:PUBLISH
BEGIN:VEVENT
UID:lfv-43a58812-a0fb-4134-ac18-7f9f3b954307
LOCATION:
SUMMARY:Übung
DESCRIPTION:Termin Link: http://www.ffw-burgbernheim.de/termine/ubung-09/
URL:http://www.ffw-burgbernheim.de/termine/ubung-09/
CLASS:PRIVATE
DTSTART;TZID=Europe/Berlin:20260909T193000
DTEND;TZID=Europe/Berlin:20260909T203000
DTSTAMP:20260421T094423Z
END:VEVENT
END:VCALENDAR