BEGIN:VCALENDAR
VERSION:2.0
PRODID:LFV Website-Kit
METHOD:PUBLISH
BEGIN:VEVENT
UID:lfv-41dbaa7b-3c9a-4852-971f-ffe1686d84f9
LOCATION:
SUMMARY:Seilershof-Fest
DESCRIPTION:Seilershof, Burgbernheim\n\nTermin Link: http://www.ffw-burgbernheim.de/termine/seilershof-fest/
URL:http://www.ffw-burgbernheim.de/termine/seilershof-fest/
CLASS:PRIVATE
DTSTART;TZID=Europe/Berlin:20260711T180000
DTEND;TZID=Europe/Berlin:20260711T190000
DTSTAMP:20260419T222641Z
END:VEVENT
END:VCALENDAR