BEGIN:VCALENDAR
VERSION:2.0
PRODID:LFV Website-Kit
METHOD:PUBLISH
BEGIN:VEVENT
UID:lfv-3594fc2c-15bc-45f5-abca-cb75ab7e3338
LOCATION:Feuerwehr-Gerätehaus Burgbernheim
SUMMARY:Maschinisten-Übung
DESCRIPTION:Termin Link: http://www.ffw-burgbernheim.de/termine/maschinisten-ubung_08/
URL:http://www.ffw-burgbernheim.de/termine/maschinisten-ubung_08/
CLASS:PRIVATE
DTSTART;TZID=Europe/Berlin:20260826T193000
DTEND;TZID=Europe/Berlin:20260826T203000
DTSTAMP:20260421T005854Z
END:VEVENT
END:VCALENDAR