BEGIN:VCALENDAR
VERSION:2.0
PRODID:LFV Website-Kit
METHOD:PUBLISH
BEGIN:VEVENT
UID:lfv-0e000d67-5b9b-4421-aae5-8205acb6adce
LOCATION:
SUMMARY:Maschinisten-Übung
DESCRIPTION:Termin Link: http://www.ffw-burgbernheim.de/termine/maschinisten-ubung/
URL:http://www.ffw-burgbernheim.de/termine/maschinisten-ubung/
CLASS:PRIVATE
DTSTART;TZID=Europe/Berlin:20261223T193000
DTEND;TZID=Europe/Berlin:20261223T203000
DTSTAMP:20260424T001609Z
END:VEVENT
END:VCALENDAR