BEGIN:VCALENDAR
VERSION:2.0
PRODID:LFV Website-Kit
METHOD:PUBLISH
BEGIN:VEVENT
UID:lfv-2c697957-4c6a-4719-b76f-8efe938c4e0d
LOCATION:
SUMMARY:Maschinisten-Übung
DESCRIPTION:Termin Link: http://www.ffw-burgbernheim.de/termine/maschinisten-ubung-10/
URL:http://www.ffw-burgbernheim.de/termine/maschinisten-ubung-10/
CLASS:PRIVATE
DTSTART;TZID=Europe/Berlin:20261028T193000
DTEND;TZID=Europe/Berlin:20261028T203000
DTSTAMP:20260422T141232Z
END:VEVENT
END:VCALENDAR