BEGIN:VCALENDAR
VERSION:2.0
PRODID:LFV Website-Kit
METHOD:PUBLISH
BEGIN:VEVENT
UID:lfv-b414e2c7-94ad-4332-b3aa-feb0f935f677
LOCATION:
SUMMARY:Kreisjugendfeuerwehrtag
DESCRIPTION:Termin Link: http://www.ffw-burgbernheim.de/termine/kreisjugendfeuerwehrtag/
URL:http://www.ffw-burgbernheim.de/termine/kreisjugendfeuerwehrtag/
CLASS:PRIVATE
DTSTART;VALUE=DATE:20260717
DTEND;VALUE=DATE:20260720
DTSTAMP:20260420T011633Z
END:VEVENT
END:VCALENDAR