BEGIN:VCALENDAR
VERSION:2.0
PRODID:LFV Website-Kit
METHOD:PUBLISH
BEGIN:VEVENT
UID:lfv-a241d8bb-e726-44c4-a043-9d1067b03010
LOCATION:
SUMMARY:Kinderfeuerwehr
DESCRIPTION:Gruppe 2: 8-11 Jahre\n\nTermin Link: http://www.ffw-burgbernheim.de/termine/kinderfeuerwehr-9b/
URL:http://www.ffw-burgbernheim.de/termine/kinderfeuerwehr-9b/
CLASS:PRIVATE
DTSTART;TZID=Europe/Berlin:20260905T110000
DTEND;TZID=Europe/Berlin:20260905T120000
DTSTAMP:20260421T063433Z
END:VEVENT
END:VCALENDAR