BEGIN:VCALENDAR
VERSION:2.0
PRODID:LFV Website-Kit
METHOD:PUBLISH
BEGIN:VEVENT
UID:lfv-78f3b9e4-df3c-4398-8afc-67521127d4da
LOCATION:
SUMMARY:Kinderfeuerwehr
DESCRIPTION:Gruppe 1: 6-7 Jahre\n\nTermin Link: http://www.ffw-burgbernheim.de/termine/kinderfeuerwehr-9a/
URL:http://www.ffw-burgbernheim.de/termine/kinderfeuerwehr-9a/
CLASS:PRIVATE
DTSTART;TZID=Europe/Berlin:20260905T090000
DTEND;TZID=Europe/Berlin:20260905T100000
DTSTAMP:20260421T043558Z
END:VEVENT
END:VCALENDAR