BEGIN:VCALENDAR
VERSION:2.0
PRODID:LFV Website-Kit
METHOD:PUBLISH
BEGIN:VEVENT
UID:lfv-3beacfba-57e1-48f3-8075-1f14cf62f359
LOCATION:
SUMMARY:Kinderfeuerwehr
DESCRIPTION:Gruppe 2: 8-11 Jahre\n\nTermin Link: http://www.ffw-burgbernheim.de/termine/kinderfeuerwehr-8b/
URL:http://www.ffw-burgbernheim.de/termine/kinderfeuerwehr-8b/
CLASS:PRIVATE
DTSTART;TZID=Europe/Berlin:20260801T110000
DTEND;TZID=Europe/Berlin:20260801T120000
DTSTAMP:20260420T102710Z
END:VEVENT
END:VCALENDAR