BEGIN:VCALENDAR
VERSION:2.0
PRODID:LFV Website-Kit
METHOD:PUBLISH
BEGIN:VEVENT
UID:lfv-3341d468-2505-460b-8d74-328ff88f154d
LOCATION:
SUMMARY:Kinderfeuerwehr
DESCRIPTION:Gruppe 1: 6-7 Jahre\n\nTermin Link: http://www.ffw-burgbernheim.de/termine/kinderfeuerwehr-8a/
URL:http://www.ffw-burgbernheim.de/termine/kinderfeuerwehr-8a/
CLASS:PRIVATE
DTSTART;TZID=Europe/Berlin:20260801T090000
DTEND;TZID=Europe/Berlin:20260801T100000
DTSTAMP:20260420T090346Z
END:VEVENT
END:VCALENDAR