BEGIN:VCALENDAR
VERSION:2.0
PRODID:LFV Website-Kit
METHOD:PUBLISH
BEGIN:VEVENT
UID:lfv-8d59c478-0b62-4a7e-8ef2-f602ff68327e
LOCATION:
SUMMARY:Kinderfeuerwehr
DESCRIPTION:Gruppe 2: 8-11 Jahre\n\nTermin Link: http://www.ffw-burgbernheim.de/termine/kinderfeuerwehr-7b/
URL:http://www.ffw-burgbernheim.de/termine/kinderfeuerwehr-7b/
CLASS:PRIVATE
DTSTART;TZID=Europe/Berlin:20260711T110000
DTEND;TZID=Europe/Berlin:20260711T120000
DTSTAMP:20260419T204633Z
END:VEVENT
END:VCALENDAR