BEGIN:VCALENDAR
VERSION:2.0
PRODID:LFV Website-Kit
METHOD:PUBLISH
BEGIN:VEVENT
UID:lfv-8e011a2f-5e8b-4c51-8d6b-49a580390de3
LOCATION:
SUMMARY:Kinderfeuerwehr
DESCRIPTION:Gruppe 1: 6-7 Jahre\n\nTermin Link: http://www.ffw-burgbernheim.de/termine/kinderfeuerwehr-7a/
URL:http://www.ffw-burgbernheim.de/termine/kinderfeuerwehr-7a/
CLASS:PRIVATE
DTSTART;TZID=Europe/Berlin:20260711T090000
DTEND;TZID=Europe/Berlin:20260711T100000
DTSTAMP:20260419T191157Z
END:VEVENT
END:VCALENDAR