BEGIN:VCALENDAR
VERSION:2.0
PRODID:LFV Website-Kit
METHOD:PUBLISH
BEGIN:VEVENT
UID:lfv-032930fa-df45-41ed-b257-21b3df204d6d
LOCATION:
SUMMARY:Kinderfeuerwehr
DESCRIPTION:Gruppe 2: 8-11 Jahre\n\nTermin Link: http://www.ffw-burgbernheim.de/termine/kinderfeuerwehr-7/
URL:http://www.ffw-burgbernheim.de/termine/kinderfeuerwehr-7/
CLASS:PRIVATE
DTSTART;TZID=Europe/Berlin:20261107T110000
DTEND;TZID=Europe/Berlin:20261107T120000
DTSTAMP:20260422T210113Z
END:VEVENT
END:VCALENDAR