BEGIN:VCALENDAR
VERSION:2.0
PRODID:LFV Website-Kit
METHOD:PUBLISH
BEGIN:VEVENT
UID:lfv-581e0614-aad1-426a-b7ce-b77b5a0c21f7
LOCATION:
SUMMARY:Kinderfeuerwehr
DESCRIPTION:Gruppe 1: 6-7 Jahre\n\nTermin Link: http://www.ffw-burgbernheim.de/termine/kinderfeuerwehr-6/
URL:http://www.ffw-burgbernheim.de/termine/kinderfeuerwehr-6/
CLASS:PRIVATE
DTSTART;TZID=Europe/Berlin:20261107T090000
DTEND;TZID=Europe/Berlin:20261107T100000
DTSTAMP:20260422T191653Z
END:VEVENT
END:VCALENDAR