BEGIN:VCALENDAR
VERSION:2.0
PRODID:LFV Website-Kit
METHOD:PUBLISH
BEGIN:VEVENT
UID:lfv-165db58d-368c-4884-bd8f-7425cd9ef141
LOCATION:
SUMMARY:Kinderfeuerwehr
DESCRIPTION:Gruppe 2: 8-11 Jahre\n\nTermin Link: http://www.ffw-burgbernheim.de/termine/kinderfeuerwehr-12b/
URL:http://www.ffw-burgbernheim.de/termine/kinderfeuerwehr-12b/
CLASS:PRIVATE
DTSTART;TZID=Europe/Berlin:20261205T110000
DTEND;TZID=Europe/Berlin:20261205T120000
DTSTAMP:20260423T124931Z
END:VEVENT
END:VCALENDAR