BEGIN:VCALENDAR
VERSION:2.0
PRODID:LFV Website-Kit
METHOD:PUBLISH
BEGIN:VEVENT
UID:lfv-ef70bf4f-8498-4f9e-9c86-9558a2bf2488
LOCATION:
SUMMARY:Kinderfeuerwehr
DESCRIPTION:Gruppe 1: 6-7 Jahre\n\nTermin Link: http://www.ffw-burgbernheim.de/termine/kinderfeuerwehr-12a/
URL:http://www.ffw-burgbernheim.de/termine/kinderfeuerwehr-12a/
CLASS:PRIVATE
DTSTART;TZID=Europe/Berlin:20261205T090000
DTEND;TZID=Europe/Berlin:20261205T100000
DTSTAMP:20260423T110455Z
END:VEVENT
END:VCALENDAR