BEGIN:VCALENDAR
VERSION:2.0
PRODID:LFV Website-Kit
METHOD:PUBLISH
BEGIN:VEVENT
UID:lfv-48e8cc6b-022c-4e6a-8440-8e81146400f1
LOCATION:
SUMMARY:Kinderfeuerwehr
DESCRIPTION:Gruppe 2: 8-11 Jahre\n\nTermin Link: http://www.ffw-burgbernheim.de/termine/kinderfeuerwehr-10b/
URL:http://www.ffw-burgbernheim.de/termine/kinderfeuerwehr-10b/
CLASS:PRIVATE
DTSTART;TZID=Europe/Berlin:20261010T110000
DTEND;TZID=Europe/Berlin:20261010T120000
DTSTAMP:20260422T025208Z
END:VEVENT
END:VCALENDAR