BEGIN:VCALENDAR
VERSION:2.0
PRODID:LFV Website-Kit
METHOD:PUBLISH
BEGIN:VEVENT
UID:lfv-9a331805-c637-4b6d-94bf-77fe10b9e0b5
LOCATION:
SUMMARY:Kinderfeuerwehr
DESCRIPTION:Gruppe 1: 6-7 Jahre\n\nTermin Link: http://www.ffw-burgbernheim.de/termine/kinderfeuerwehr-10a/
URL:http://www.ffw-burgbernheim.de/termine/kinderfeuerwehr-10a/
CLASS:PRIVATE
DTSTART;TZID=Europe/Berlin:20261010T090000
DTEND;TZID=Europe/Berlin:20261010T100000
DTSTAMP:20260422T004227Z
END:VEVENT
END:VCALENDAR