BEGIN:VCALENDAR
VERSION:2.0
PRODID:LFV Website-Kit
METHOD:PUBLISH
BEGIN:VEVENT
UID:lfv-750487bf-d60f-4de8-9f7e-6ab912784c2f
LOCATION:
SUMMARY:Kinderferienprogramm
DESCRIPTION:Termin Link: http://www.ffw-burgbernheim.de/termine/kinderferienprogramm/
URL:http://www.ffw-burgbernheim.de/termine/kinderferienprogramm/
CLASS:PRIVATE
DTSTART;TZID=Europe/Berlin:20260815T140000
DTEND;TZID=Europe/Berlin:20260815T150000
DTSTAMP:20260420T195148Z
END:VEVENT
END:VCALENDAR