BEGIN:VCALENDAR
VERSION:2.0
PRODID:LFV Website-Kit
METHOD:PUBLISH
BEGIN:VEVENT
UID:lfv-f31f6fed-7201-45cc-935c-071d760ffd5a
LOCATION:
SUMMARY:Jugenwart-Dienstversammlung
DESCRIPTION:Termin Link: http://www.ffw-burgbernheim.de/termine/jugenwart-dienstversammlung-2/
URL:http://www.ffw-burgbernheim.de/termine/jugenwart-dienstversammlung-2/
CLASS:PRIVATE
DTSTART;TZID=Europe/Berlin:20261124T193000
DTEND;TZID=Europe/Berlin:20261124T203000
DTSTAMP:20260423T062138Z
END:VEVENT
END:VCALENDAR