BEGIN:VCALENDAR
VERSION:2.0
PRODID:LFV Website-Kit
METHOD:PUBLISH
BEGIN:VEVENT
UID:lfv-6e76e4ab-304f-41f9-962c-1505357a18dc
LOCATION:
SUMMARY:Jugendfeuerwehr
DESCRIPTION:Termin Link: http://www.ffw-burgbernheim.de/termine/jugendfeuerwehr_12/
URL:http://www.ffw-burgbernheim.de/termine/jugendfeuerwehr_12/
CLASS:PRIVATE
DTSTART;TZID=Europe/Berlin:20261202T190000
DTEND;TZID=Europe/Berlin:20261202T200000
DTSTAMP:20260423T093511Z
END:VEVENT
END:VCALENDAR