BEGIN:VCALENDAR
VERSION:2.0
PRODID:LFV Website-Kit
METHOD:PUBLISH
BEGIN:VEVENT
UID:lfv-cd215d41-a137-4bbc-8883-4bbe4da48bb2
LOCATION:
SUMMARY:Jugendfeuerwehr
DESCRIPTION:Termin Link: http://www.ffw-burgbernheim.de/termine/jugendfeuerwehr_10/
URL:http://www.ffw-burgbernheim.de/termine/jugendfeuerwehr_10/
CLASS:PRIVATE
DTSTART;TZID=Europe/Berlin:20261007T190000
DTEND;TZID=Europe/Berlin:20261007T200000
DTSTAMP:20260421T231412Z
END:VEVENT
END:VCALENDAR