BEGIN:VCALENDAR
VERSION:2.0
PRODID:LFV Website-Kit
METHOD:PUBLISH
BEGIN:VEVENT
UID:lfv-2d2ec0fc-6d56-471b-9a97-62a9fdcfdb59
LOCATION:
SUMMARY:Jugendfeuerwehr
DESCRIPTION:Termin Link: http://www.ffw-burgbernheim.de/termine/jugendfeuerwehr_08/
URL:http://www.ffw-burgbernheim.de/termine/jugendfeuerwehr_08/
CLASS:PRIVATE
DTSTART;TZID=Europe/Berlin:20260805T190000
DTEND;TZID=Europe/Berlin:20260805T200000
DTSTAMP:20260420T134536Z
END:VEVENT
END:VCALENDAR