BEGIN:VCALENDAR
VERSION:2.0
PRODID:LFV Website-Kit
METHOD:PUBLISH
BEGIN:VEVENT
UID:lfv-fd54d1bc-ecff-49d7-88eb-8fc80b79d3d6
LOCATION:
SUMMARY:Jugendfeuerwehr
DESCRIPTION:Termin Link: http://www.ffw-burgbernheim.de/termine/jugendfeuerwehr_07/
URL:http://www.ffw-burgbernheim.de/termine/jugendfeuerwehr_07/
CLASS:PRIVATE
DTSTART;TZID=Europe/Berlin:20260701T190000
DTEND;TZID=Europe/Berlin:20260701T200000
DTSTAMP:20260419T130714Z
END:VEVENT
END:VCALENDAR