BEGIN:VCALENDAR
VERSION:2.0
PRODID:LFV Website-Kit
METHOD:PUBLISH
BEGIN:VEVENT
UID:lfv-98b843ae-f5ac-44a9-ba1b-ca796412b60f
LOCATION:
SUMMARY:Jugendfeuerwehr
DESCRIPTION:Termin Link: http://www.ffw-burgbernheim.de/termine/jugendfeuerwehr-11/
URL:http://www.ffw-burgbernheim.de/termine/jugendfeuerwehr-11/
CLASS:PRIVATE
DTSTART;TZID=Europe/Berlin:20261104T190000
DTEND;TZID=Europe/Berlin:20261104T200000
DTSTAMP:20260422T175217Z
END:VEVENT
END:VCALENDAR