BEGIN:VCALENDAR
VERSION:2.0
PRODID:LFV Website-Kit
METHOD:PUBLISH
BEGIN:VEVENT
UID:lfv-4e9f7763-8e55-4804-a3ba-6c22889e9775
LOCATION:
SUMMARY:Gerätedienst
DESCRIPTION:Termin Link: http://www.ffw-burgbernheim.de/termine/geratedienst_10/
URL:http://www.ffw-burgbernheim.de/termine/geratedienst_10/
CLASS:PRIVATE
DTSTART;TZID=Europe/Berlin:20261017T150000
DTEND;TZID=Europe/Berlin:20261017T160000
DTSTAMP:20260422T073058Z
END:VEVENT
END:VCALENDAR