BEGIN:VCALENDAR
VERSION:2.0
PRODID:LFV Website-Kit
METHOD:PUBLISH
BEGIN:VEVENT
UID:lfv-78dbc2a0-e352-448d-ad6f-380423e6edb1
LOCATION:
SUMMARY:Gerätedienst
DESCRIPTION:Termin Link: http://www.ffw-burgbernheim.de/termine/geratedienst_08/
URL:http://www.ffw-burgbernheim.de/termine/geratedienst_08/
CLASS:PRIVATE
DTSTART;TZID=Europe/Berlin:20260808T150000
DTEND;TZID=Europe/Berlin:20260808T160000
DTSTAMP:20260420T152557Z
END:VEVENT
END:VCALENDAR