BEGIN:VCALENDAR
VERSION:2.0
PRODID:LFV Website-Kit
METHOD:PUBLISH
BEGIN:VEVENT
UID:lfv-001039a9-f35b-4e9f-9575-acd09eb4150a
LOCATION:
SUMMARY:Gerätedienst
DESCRIPTION:Termin Link: http://www.ffw-burgbernheim.de/termine/geratedienst-12/
URL:http://www.ffw-burgbernheim.de/termine/geratedienst-12/
CLASS:PRIVATE
DTSTART;TZID=Europe/Berlin:20261219T150000
DTEND;TZID=Europe/Berlin:20261219T160000
DTSTAMP:20260423T210459Z
END:VEVENT
END:VCALENDAR