BEGIN:VCALENDAR
VERSION:2.0
PRODID:LFV Website-Kit
METHOD:PUBLISH
BEGIN:VEVENT
UID:lfv-ff418ef5-cd2e-4f6c-8a7b-06daf21aaedc
LOCATION:
SUMMARY:Dienstsport
DESCRIPTION:Termin Link: http://www.ffw-burgbernheim.de/termine/dienstsport-51/
URL:http://www.ffw-burgbernheim.de/termine/dienstsport-51/
CLASS:PRIVATE
DTSTART;TZID=Europe/Berlin:20261228T190000
DTEND;TZID=Europe/Berlin:20261228T200000
DTSTAMP:20260424T013758Z
END:VEVENT
END:VCALENDAR