BEGIN:VCALENDAR
VERSION:2.0
PRODID:LFV Website-Kit
METHOD:PUBLISH
BEGIN:VEVENT
UID:lfv-40a787c3-5527-440f-8ccc-ce62928034d5
LOCATION:
SUMMARY:Dienstsport
DESCRIPTION:Termin Link: http://www.ffw-burgbernheim.de/termine/dienstsport-50/
URL:http://www.ffw-burgbernheim.de/termine/dienstsport-50/
CLASS:PRIVATE
DTSTART;TZID=Europe/Berlin:20261221T190000
DTEND;TZID=Europe/Berlin:20261221T200000
DTSTAMP:20260423T223157Z
END:VEVENT
END:VCALENDAR