BEGIN:VCALENDAR
VERSION:2.0
PRODID:LFV Website-Kit
METHOD:PUBLISH
BEGIN:VEVENT
UID:lfv-20b20d52-a19d-40a4-b70c-ba6813c08ec7
LOCATION:
SUMMARY:Dienstsport
DESCRIPTION:Termin Link: http://www.ffw-burgbernheim.de/termine/dienstsport-48/
URL:http://www.ffw-burgbernheim.de/termine/dienstsport-48/
CLASS:PRIVATE
DTSTART;TZID=Europe/Berlin:20261214T190000
DTEND;TZID=Europe/Berlin:20261214T200000
DTSTAMP:20260423T192815Z
END:VEVENT
END:VCALENDAR