BEGIN:VCALENDAR
VERSION:2.0
PRODID:LFV Website-Kit
METHOD:PUBLISH
BEGIN:VEVENT
UID:lfv-e22a32fb-6c3c-4673-80ed-81547add6de4
LOCATION:
SUMMARY:Dienstsport
DESCRIPTION:Termin Link: http://www.ffw-burgbernheim.de/termine/dienstsport-47/
URL:http://www.ffw-burgbernheim.de/termine/dienstsport-47/
CLASS:PRIVATE
DTSTART;TZID=Europe/Berlin:20261207T190000
DTEND;TZID=Europe/Berlin:20261207T200000
DTSTAMP:20260423T162100Z
END:VEVENT
END:VCALENDAR