BEGIN:VCALENDAR
VERSION:2.0
PRODID:LFV Website-Kit
METHOD:PUBLISH
BEGIN:VEVENT
UID:lfv-6a4f5637-34d6-4ef5-894a-b8c8d27cee8f
LOCATION:
SUMMARY:Dienstsport
DESCRIPTION:Termin Link: http://www.ffw-burgbernheim.de/termine/dienstsport-46/
URL:http://www.ffw-burgbernheim.de/termine/dienstsport-46/
CLASS:PRIVATE
DTSTART;TZID=Europe/Berlin:20261123T190000
DTEND;TZID=Europe/Berlin:20261123T200000
DTSTAMP:20260423T043154Z
END:VEVENT
END:VCALENDAR