BEGIN:VCALENDAR
VERSION:2.0
PRODID:LFV Website-Kit
METHOD:PUBLISH
BEGIN:VEVENT
UID:lfv-2eadb3c5-fbc9-47fa-81c7-c0176b2785a7
LOCATION:
SUMMARY:Dienstsport
DESCRIPTION:Termin Link: http://www.ffw-burgbernheim.de/termine/dienstsport-45/
URL:http://www.ffw-burgbernheim.de/termine/dienstsport-45/
CLASS:PRIVATE
DTSTART;TZID=Europe/Berlin:20261116T190000
DTEND;TZID=Europe/Berlin:20261116T200000
DTSTAMP:20260423T030336Z
END:VEVENT
END:VCALENDAR