BEGIN:VCALENDAR
VERSION:2.0
PRODID:LFV Website-Kit
METHOD:PUBLISH
BEGIN:VEVENT
UID:lfv-3c73e6a7-c705-4157-a609-eb41708d70e8
LOCATION:
SUMMARY:Dienstsport
DESCRIPTION:Termin Link: http://www.ffw-burgbernheim.de/termine/dienstsport-44/
URL:http://www.ffw-burgbernheim.de/termine/dienstsport-44/
CLASS:PRIVATE
DTSTART;TZID=Europe/Berlin:20261109T190000
DTEND;TZID=Europe/Berlin:20261109T200000
DTSTAMP:20260422T221239Z
END:VEVENT
END:VCALENDAR