BEGIN:VCALENDAR
VERSION:2.0
PRODID:LFV Website-Kit
METHOD:PUBLISH
BEGIN:VEVENT
UID:lfv-7388c4dd-1960-4e04-af6c-7de8ff724bf5
LOCATION:
SUMMARY:Dienstsport
DESCRIPTION:Termin Link: http://www.ffw-burgbernheim.de/termine/dienstsport-43/
URL:http://www.ffw-burgbernheim.de/termine/dienstsport-43/
CLASS:PRIVATE
DTSTART;TZID=Europe/Berlin:20261102T190000
DTEND;TZID=Europe/Berlin:20261102T200000
DTSTAMP:20260422T160239Z
END:VEVENT
END:VCALENDAR