BEGIN:VCALENDAR
VERSION:2.0
PRODID:LFV Website-Kit
METHOD:PUBLISH
BEGIN:VEVENT
UID:lfv-03e8aa67-a481-4e7c-bbef-29efacbad26a
LOCATION:
SUMMARY:Dienstsport
DESCRIPTION:Termin Link: http://www.ffw-burgbernheim.de/termine/dienstsport-42/
URL:http://www.ffw-burgbernheim.de/termine/dienstsport-42/
CLASS:PRIVATE
DTSTART;TZID=Europe/Berlin:20261026T190000
DTEND;TZID=Europe/Berlin:20261026T200000
DTSTAMP:20260422T123815Z
END:VEVENT
END:VCALENDAR