BEGIN:VCALENDAR
VERSION:2.0
PRODID:LFV Website-Kit
METHOD:PUBLISH
BEGIN:VEVENT
UID:lfv-2c4553b2-0199-40c6-a1cb-f614c2f5c655
LOCATION:
SUMMARY:Dienstsport
DESCRIPTION:Termin Link: http://www.ffw-burgbernheim.de/termine/dienstsport-41/
URL:http://www.ffw-burgbernheim.de/termine/dienstsport-41/
CLASS:PRIVATE
DTSTART;TZID=Europe/Berlin:20261019T190000
DTEND;TZID=Europe/Berlin:20261019T200000
DTSTAMP:20260422T091407Z
END:VEVENT
END:VCALENDAR