BEGIN:VCALENDAR
VERSION:2.0
PRODID:LFV Website-Kit
METHOD:PUBLISH
BEGIN:VEVENT
UID:lfv-2574ca3e-57de-4ef7-b9b2-c80144ae562d
LOCATION:
SUMMARY:Dienstsport
DESCRIPTION:Termin Link: http://www.ffw-burgbernheim.de/termine/dienstsport-40/
URL:http://www.ffw-burgbernheim.de/termine/dienstsport-40/
CLASS:PRIVATE
DTSTART;TZID=Europe/Berlin:20261012T190000
DTEND;TZID=Europe/Berlin:20261012T200000
DTSTAMP:20260422T041700Z
END:VEVENT
END:VCALENDAR