BEGIN:VCALENDAR
VERSION:2.0
PRODID:LFV Website-Kit
METHOD:PUBLISH
BEGIN:VEVENT
UID:lfv-205403b7-0fee-4021-834f-26eb5ddaa125
LOCATION:
SUMMARY:Dienstsport
DESCRIPTION:Termin Link: http://www.ffw-burgbernheim.de/termine/dienstsport-39/
URL:http://www.ffw-burgbernheim.de/termine/dienstsport-39/
CLASS:PRIVATE
DTSTART;TZID=Europe/Berlin:20261005T190000
DTEND;TZID=Europe/Berlin:20261005T200000
DTSTAMP:20260421T213310Z
END:VEVENT
END:VCALENDAR