BEGIN:VCALENDAR
VERSION:2.0
PRODID:LFV Website-Kit
METHOD:PUBLISH
BEGIN:VEVENT
UID:lfv-6736e01b-c03f-4da1-8425-8147aaedc3f4
LOCATION:
SUMMARY:Dienstsport
DESCRIPTION:Termin Link: http://www.ffw-burgbernheim.de/termine/dienstsport-38/
URL:http://www.ffw-burgbernheim.de/termine/dienstsport-38/
CLASS:PRIVATE
DTSTART;TZID=Europe/Berlin:20260928T190000
DTEND;TZID=Europe/Berlin:20260928T200000
DTSTAMP:20260421T194904Z
END:VEVENT
END:VCALENDAR