BEGIN:VCALENDAR
VERSION:2.0
PRODID:LFV Website-Kit
METHOD:PUBLISH
BEGIN:VEVENT
UID:lfv-c643d6ca-9858-4423-9d69-f7295848bc01
LOCATION:
SUMMARY:Dienstsport
DESCRIPTION:Termin Link: http://www.ffw-burgbernheim.de/termine/dienstsport-37/
URL:http://www.ffw-burgbernheim.de/termine/dienstsport-37/
CLASS:PRIVATE
DTSTART;TZID=Europe/Berlin:20260921T190000
DTEND;TZID=Europe/Berlin:20260921T200000
DTSTAMP:20260421T163658Z
END:VEVENT
END:VCALENDAR