BEGIN:VCALENDAR
VERSION:2.0
PRODID:LFV Website-Kit
METHOD:PUBLISH
BEGIN:VEVENT
UID:lfv-c58c76a1-bb91-4797-8587-5ca872ad16cc
LOCATION:
SUMMARY:Dienstsport
DESCRIPTION:Termin Link: http://www.ffw-burgbernheim.de/termine/dienstsport-36/
URL:http://www.ffw-burgbernheim.de/termine/dienstsport-36/
CLASS:PRIVATE
DTSTART;TZID=Europe/Berlin:20260914T190000
DTEND;TZID=Europe/Berlin:20260914T200000
DTSTAMP:20260421T111950Z
END:VEVENT
END:VCALENDAR